Workbook
Name bread_hydration: constants!$C$29
Name c_bread: constants!$C$9
Name dust: constants!#REF!
Name dust_ratio: constants!#REF!
Name flour_fraction: constants!$C$17
Name Hf_water: constants!$C$10:$C$11
Name op_time: constants!$C$6
Name other_waste: constants!#REF!
Name wastage: constants!$C$5

Sheet constants
B2: Overall System | F2: Electricity Use | O2: Key
B3: Calculation Basis | C3: 1000 | D3: kg Rescued Flour (for use) | F3: Processing Step | G3: Unit Process | H3: input power | I3: load | J3: efficiency | K3: Energy Input (from rescued) | L3: calculated | M3: Electricity Consumption (kWh) | O3: Text Description
B4: Bread Feed Rate | C4: 160 | D4: kg/h | F4: bread debagging | G4: B04 | H4: 5 | I4: 0.6 | J4: 0.9 | K4: 3.3 | L4: =H4*I4*J4 -> 2.7 | M4: =K4*op_time -> 34.326728 | O4: Manual Inputs
B5: Wasted Bread in Process | C5: 0.025 | F5: conveyance: bread to rough milling | G5: B05 | H5: 0.75 | I5: 0.4 | J5: 0.8 | K5: 0.38 | L5: =H5*I5*J5 -> 0.24 | M5: =K5*op_time -> 3.9527747 | O5: Calculated Values
B6: Operating time | C6: ='rescued bread - mass balance'!I10/C4 -> 10.402039 | D6: h | F6: rough milling | G6: B05 | H6: 5 | I6: 0.7 | J6: 0.9 | K6: 3.9 | L6: =H6*I6*J6 -> 3.15 | M6: =K6*op_time -> 40.567951
F7: conveyance: rough milling to drying | G7: B06 | H7: 0.75 | I7: 0.4 | J7: 0.8 | K7: 0.38 | L7: =H7*I7*J7 -> 0.24 | M7: =K7*op_time -> 3.9527747
B8: Bread Freezing | F8: spiral flash dryer | G8: B06 | H8: 6.5 | I8: 1 | J8: 1 | K8: 6.5 | L8: =H8*I8*J8 -> 6.5 | M8: =K8*op_time -> 67.613252
B9: Bread specific heat capacity | C9: 2.72 | D9: kJ/kg*℃ | F9: conveyance: fine milling to sieve | G9: B08 | H9: 0.5 | I9: 0.4 | J9: 0.5 | K9: 0.25 | L9: =H9*I9*J9 -> 0.1 | M9: =K9*op_time -> 2.6005097
B10: Water heat of fusion | C10: 333.55 | D10: kJ/kg | F10: sieving | G10: B08 | H10: 1 | I10: 0.75 | J10: 0.85 | K10: 0.88 | L10: =H10*I10*J10 -> 0.6375 | M10: =K10*op_time -> 9.1537941
B11: Freezer Coefficient of Performance | C11: 1 | F11: conveyance: sieving to packing | G11: B09 | H11: 0.5 | I11: 0.4 | J11: 0.8 | K11: 0.25 | L11: =H11*I11*J11 -> 0.16 | M11: =K11*op_time -> 2.6005097
B12: Freezer temp change | C12: =20-(-15) -> 35 | D12: ℃ | F12: packing | G12: B09 | H12: 3 | I12: 0.65 | J12: 0.9 | K12: 2.2 | L12: =H12*I12*J12 -> 1.755 | M12: =K12*op_time -> 22.884485
B13: Freezer energy | C13: =(C12*c_bread+C10*C27/(C26+C27))/C11 -> 167.14216 | D13: kJ/kg | F13: conveyance: packing to weighing/metal detection | G13: B10 | H13: 0.5 | I13: 0.4 | J13: 0.8 | K13: 0.25 | L13: =H13*I13*J13 -> 0.16 | M13: =K13*op_time -> 2.6005097
F14: check weighing and metal detection | G14: B10 | H14: 0.8 | I14: 0.9 | J14: 0.85 | K14: 0.85 | L14: =H14*I14*J14 -> 0.612 | M14: =K14*op_time -> 8.841733
B16: Seiving
B17: Flour | C17: 0.85 | D17: kg/kg milled bread | F17: Transportation | I17: Transport Mode Fraction
B18: Breadcrumb | C18: =1-C17 -> 0.15 | D18: kg/kg milled bread | F18: Travel Location | G18: Note | H18: Distance (km) | I18: Rail | J18: Sea | K18: Road
F19: Rescued Bread
F20: Surplus Bread Collection | G20: Average Distance (Woolworth Stores to KiwiHarvest) | H20: 20.54 | I20: 0 | J20: 0 | K20: =1-I20-J20 -> 1
B21: Packaging | F21: Surplus Bread Delivery | G21: KiwiHarvest (Unit G/Business Parade South, East Tāmaki, Auckland) → The FoodBowl, Māngere, Auckland | H21: 15 | I21: 0 | J21: 0 | K21: =1-I21-J21 -> 1
B22: Paper Sack | C22: 7.364 | D22: g/kg flour | F22: Processing → Packaging | G22: The FoodBowl, Māngere, Auckland → Rescued Limited, Onehunga, Auckland | H22: 12 | I22: 0 | J22: 0 | K22: =1-I22-J22 -> 1
F23: Packaging → Distribution Partner | G23: Rescued Limited, Onehunga, Auckland → KiwiHarvest (Unit G/Business Parade South, East Tāmaki, Auckland) | H23: 13 | I23: 0 | J23: 0 | K23: =1-I23-J23 -> 1
F24: Wheat Flour
B25: Flash Drying | F25: Farm to Brisbane | H25: 420 | I25: 0.5 | J25: 0 | K25: =1-I25-J25 -> 0.5
B26: Bread Feed Rate | C26: =C4 -> 160 | D26: kg/h | F26: Farm to Sydney | H26: 320 | I26: 0.5 | J26: 0 | K26: =1-I26-J26 -> 0.5
B27: Water Removed | C27: 44 | D27: kg/h | F27: Farm to Melbourne | H27: 260 | I27: 0.5 | J27: 0 | K27: =1-I27-J27 -> 0.5
B28: Dried bread pellets produced | C28: =C26-C27 -> 116 | D28: kg/h | F28: Brisbane to Tauranga | H28: 2659 | I28: 0 | J28: 1 | K28: =1-I28-J28 -> 0
B29: Bread water removal fraction | C29: =C27/C26 -> 0.275 | F29: Sydney to Tauranga | H29: 2506 | I29: 0 | J29: 1 | K29: =1-I29-J29 -> 0
B30: Process Heat | C30: 120 | D30: kW | F30: Melbourne to Tauranga | H30: 3191 | I30: 0 | J30: 1 | K30: =1-I30-J30 -> 0
B31: Efficiency | C31: 1 | F31: Tauranga to Auckland | H31: 192 | I31: 0 | J31: 0 | K31: =1-I31-J31 -> 1
B32: Energy Consumption | C32: =C30/1000*3600*op_time/C31 -> 4493.6808 | D32: MJ/1000kg
B33: Energy Consumption | C33: =C30*op_time -> 1248.2447 | D33: kWh/1000kg
F34: Wheat Production in Australia
F35: Region | G35: Percent of national production | H35: Fraction in model | I35: Port
B36: Conventional Wheat Products | F36: Victoria | G36: 12 | H36: =_xlfn.PERCENTOF(G36,$G$36:$G$38) -> 0.375 | I36: Melbourne
B37: Wheat Flour | C37: 0.78 | F37: Queensland | G37: 5 | H37: =_xlfn.PERCENTOF(G37,$G$36:$G$38) -> 0.15625 | I37: Brisbane
B38: Byproducts ("wheat bran in model") | C38: =1-C37 -> 0.22 | F38: NSW | G38: 15 | H38: =_xlfn.PERCENTOF(G38,$G$36:$G$38) -> 0.46875 | I38: Sydney

Sheet rescued bread - mass balance
B2: Total Mass Flows (kg) - No allocation | D2: Note: Final reporting and reference flow is 1.000t, but all masses here are listed in kg. | P2: Unit Processes
E3: B01 | F3: B02 | G3: B03 | H3: B04 | I3: B05 | J3: B06 | K3: B07 | L3: B08 | M3: B09 | S3: B01 | T3: B02 | U3: B03 | V3: B04 | W3: B05 | X3: B06 | Y3: B07 | Z3: B08 | AA3: B09
B4: Mass | D4: Inputs | E4: Surplus Bread collection | F4: Freezing | G4: Surplus Bread Delivery | H4: Bag removal | I4: Milling | J4: Drying | K4: Sieving | L4: Bread Flour Packaging | M4: Checking and Weighing | N4: Outputs | P4: Mass | R4: Inputs | S4: Surplus Bread collection | T4: Freezing | U4: Surplus Bread Delivery | V4: Bag removal | W4: Milling | X4: Drying | Y4: Sieving | Z4: Bread Flour Packaging | AA4: Checking and Weighing
C5: Surplus Bread, Packaged | D5: =-E5 -> 1664.3262 | E5: =-E6 -> -1664.3262 | N5: =SUM(D5:M5) -> 0 | Q5: Surplus Bread, Packaged | R5: =D5/R$20 -> 0.99548244 | S5: =E5/S$20 -> -1
C6: Surplus Bread, Consolidated | E6: =-F6 -> 1664.3262 | F6: =-F7 -> -1664.3262 | N6: =SUM(D6:M6) -> 0 | Q6: Surplus Bread, Consolidated | S6: =E6/S$20 -> 1 | T6: =F6/T$20 -> -1
C7: Surplus Bread, Frozen | F7: =-G7 -> 1664.3262 | G7: =-G8 -> -1664.3262 | N7: =SUM(D7:M7) -> 0 | Q7: Surplus Bread, Frozen | T7: =F7/T$20 -> 1 | U7: =G7/U$20 -> -1
C8: Surplus Bread, Delivered | G8: =-H8 -> 1664.3262 | H8: =-H9 -> -1664.3262 | N8: =SUM(D8:M8) -> 0 | Q8: Suprlus Bread, Delivered | U8: =G8/U$20 -> 1 | V8: =H8/V$20 -> -1
C9: Rescued Bread | H9: =-I9 -> 1664.3262 | I9: =-I10 -> -1664.3262 | N9: =SUM(D9:M9) -> 0 | Q9: Rescued Bread | V9: =H9/V$20 -> 1 | W9: =I9/W$20 -> -1
C10: Rough-milled Rescued Bread | I10: =-J10 -> 1664.3262 | J10: =-J12/(1-bread_hydration) -> -1664.3262 | N10: =SUM(D10:M10) -> 0 | Q10: Rough-milled Rescued Bread | W10: =I10/W$20 -> 1 | X10: =J10/X$20 -> -1
C11: Water to Air | J11: =-(J10+J12) -> 457.68971 | N11: =SUM(D11:M11) -> 457.68971 | Q11: Water to Air | X11: =J11/X$20 -> 0.275
C12: Dried rescued bread pellets | J12: =K13/flour_fraction -> 1206.6365 | K12: =-J12 -> -1206.6365 | N12: =SUM(D12:M12) -> 0 | Q12: Dried rescued bread pellets | X12: =J12/X$20 -> 0.725
C13: Rescued Flour | K13: =-L13 -> 1025.641 | L13: =-L16/(1+constants!C22/1000) -> -1025.641 | N13: =SUM(D13:M13) -> 0 | Q13: Rescued Flour | Y13: =K13/Y$20 -> 0.85 | Z13: =L13/Z$20 -> -1
C14: Breadcrumbs | K14: =J12-K13 -> 180.99548 | N14: =SUM(D14:M14) -> 180.99548 | Q14: Breadcrumbs | Y14: =K14/Y$20 -> 0.15
C15: Paper sack | D15: =-L15 -> 7.5528205 | L15: =-K13*constants!C22/1000 -> -7.5528205 | N15: =SUM(D15:M15) -> 0 | Q15: Paper sack | R15: =-Z15 -> 0.007364 | Z15: =L15/Z$20 -> -0.007364
C16: Rescued Bread Flour, packaged | L16: =-M16 -> 1033.1938 | M16: =-M18/(1-wastage) -> -1033.1938 | N16: =SUM(D16:M16) -> 0 | Q16: Rescued Bread Flour, packaged | Z16: =L16/Z$20 -> 1.007364 | AA16: =M16/AA$20 -> -1
C17: Rescued Bread Flour, QC rejected | M17: =-wastage*M16 -> 25.829846 | N17: =SUM(D17:M17) -> 25.829846 | Q17: Rescued Bread Flour, QC rejected | AA17: =M17/AA$20 -> 0.025
C18: Rescued Bread Flour, packaged, saleable | M18: =constants!C3*constants!C22/1000 + constants!C3 -> 1007.364 | N18: =SUM(D18:M18) -> 1007.364 | Q18: Rescued Bread Flour, packaged, saleable | AA18: =M18/AA$20 -> 0.975
C20: Mass Balance Across Process | D20: =SUM(D5:D18) -> 1671.879 | E20: =SUM(E5:E18) -> 0 | F20: =SUM(F5:F18) -> 0 | G20: =SUM(G5:G18) -> 0 | H20: =SUM(H5:H18) -> 0 | I20: =SUM(I5:I18) -> 0 | J20: =SUM(J5:J18) -> 0 | K20: =SUM(K5:K18) -> 0 | ... N20: =SUM(N5:N18) -> 1671.879 | Q20: Mass Basis for Unit Process | R20: =D20 -> 1671.879 | S20: =E6 -> 1664.3262 | T20: =F7 -> 1664.3262 | U20: =G8 -> 1664.3262 | V20: =H9 -> 1664.3262 | W20: =I10 -> 1664.3262 | X20: =-J10 -> 1664.3262 | Y20: =-K12 -> 1206.6365 | Z20: =-L13 -> 1025.641 | AA20: =-M16 -> 1033.1938
B23: Transportation | C23: mass transported (kg) | E23: =E6 -> 1664.3262 | G23: =G8 -> 1664.3262 | P23: Transportation | Q23: mass transported (kg) | S23: =S7 -> 0 | U23: =U6 -> 0
C24: distance (km) | E24: =constants!H20 -> 20.54 | G24: =constants!H21 -> 15 | Q24: distance (km) | S24: =E24 -> 20.54 | U24: =G24 -> 15
B27: Energy | C27: Electricity | D27: =SUM(E27:M27) -> 276.36699 | F27: =constants!C13*'rescued bread - mass balance'!F7/3600 -> 77.271964 | H27: =constants!M4 -> 34.326728 | I27: =constants!M5+constants!M6 -> 44.520726 | J27: =constants!M7+constants!M8 -> 71.566027 | K27: =constants!M9+constants!M10 -> 11.754304 | L27: =constants!M11+constants!M12 -> 25.484995 | M27: =constants!M13+constants!M14 -> 11.442243 | P27: Energy | Q27: Electricity (kWh/kg) | T27: =F27/T$20 -> 0.046428377 | V27: =H27/V$20 -> 0.020625 | W27: =I27/W$20 -> 0.02675 | X27: =J27/X$20 -> 0.043 | Y27: =K27/Y$20 -> 0.0097413793 | Z27: =L27/Z$20 -> 0.02484787 | AA27: =M27/AA$20 -> 0.011074633
C28: Combustion Process Heat (MJ/kg) | J28: =constants!C32 -> 4493.6808 | Q28: Combustion Process Heat (MJ/kg) | X28: =J28/X$20 -> 2.7
B31: Total Mass Flows (kg) - With allocation
E33: B01 | F33: B02 | G33: B03 | H33: B04 | I33: B05 | J33: B06 | K33: B07 | L33: B08 | M33: B09
B34: Mass | D34: Inputs | E34: Surplus Bread collection | F34: Freezing | G34: Surplus Bread Delivery | H34: Bag removal | I34: Milling | J34: Drying | K34: Sieving | L34: Bread Flour Packaging | M34: Checking and Weighing | N34: Outputs
C35: Surplus Bread, Packaged | D35: =IF(D5="","",D5*flour_fraction) -> 1414.6773 | E35: =IF(E5="","",E5*flour_fraction) -> -1414.6773 | F35: =IF(F5="","",F5*flour_fraction) | G35: =IF(G5="","",G5*flour_fraction) | H35: =IF(H5="","",H5*flour_fraction) | I35: =IF(I5="","",I5*flour_fraction) | J35: =IF(J5="","",J5*flour_fraction) | K35: =IF(K5="","",K5*flour_fraction) | ... M35: =IF(M5="","",M5*flour_fraction) | N35: =SUM(D35:M35) -> 0
C36: Surplus Bread, Consolidated | D36: =IF(D6="","",D6*flour_fraction) | E36: =IF(E6="","",E6*flour_fraction) -> 1414.6773 | F36: =IF(F6="","",F6*flour_fraction) -> -1414.6773 | G36: =IF(G6="","",G6*flour_fraction) | H36: =IF(H6="","",H6*flour_fraction) | I36: =IF(I6="","",I6*flour_fraction) | J36: =IF(J6="","",J6*flour_fraction) | K36: =IF(K6="","",K6*flour_fraction) | ... M36: =IF(M6="","",M6*flour_fraction) | N36: =SUM(D36:M36) -> 0
C37: Surplus Bread, Frozen | D37: =IF(D7="","",D7*flour_fraction) | E37: =IF(E7="","",E7*flour_fraction) | F37: =IF(F7="","",F7*flour_fraction) -> 1414.6773 | G37: =IF(G7="","",G7*flour_fraction) -> -1414.6773 | H37: =IF(H7="","",H7*flour_fraction) | I37: =IF(I7="","",I7*flour_fraction) | J37: =IF(J7="","",J7*flour_fraction) | K37: =IF(K7="","",K7*flour_fraction) | ... M37: =IF(M7="","",M7*flour_fraction) | N37: =SUM(D37:M37) -> 0
C38: Surplus Bread, Delivered | D38: =IF(D8="","",D8*flour_fraction) | E38: =IF(E8="","",E8*flour_fraction) | F38: =IF(F8="","",F8*flour_fraction) | G38: =IF(G8="","",G8*flour_fraction) -> 1414.6773 | H38: =IF(H8="","",H8*flour_fraction) -> -1414.6773 | I38: =IF(I8="","",I8*flour_fraction) | J38: =IF(J8="","",J8*flour_fraction) | K38: =IF(K8="","",K8*flour_fraction) | ... M38: =IF(M8="","",M8*flour_fraction) | N38: =SUM(D38:M38) -> 0
C39: Rescued Bread | D39: =IF(D9="","",D9*flour_fraction) | E39: =IF(E9="","",E9*flour_fraction) | F39: =IF(F9="","",F9*flour_fraction) | G39: =IF(G9="","",G9*flour_fraction) | H39: =IF(H9="","",H9*flour_fraction) -> 1414.6773 | I39: =IF(I9="","",I9*flour_fraction) -> -1414.6773 | J39: =IF(J9="","",J9*flour_fraction) | K39: =IF(K9="","",K9*flour_fraction) | ... M39: =IF(M9="","",M9*flour_fraction) | N39: =SUM(D39:M39) -> 0
C40: Rough-milled Rescued Bread | D40: =IF(D10="","",D10*flour_fraction) | E40: =IF(E10="","",E10*flour_fraction) | F40: =IF(F10="","",F10*flour_fraction) | G40: =IF(G10="","",G10*flour_fraction) | H40: =IF(H10="","",H10*flour_fraction) | I40: =IF(I10="","",I10*flour_fraction) -> 1414.6773 | J40: =IF(J10="","",J10*flour_fraction) -> -1414.6773 | K40: =IF(K10="","",K10*flour_fraction) | ... M40: =IF(M10="","",M10*flour_fraction) | N40: =SUM(D40:M40) -> 0
C41: Water to Air | D41: =IF(D11="","",D11*flour_fraction) | E41: =IF(E11="","",E11*flour_fraction) | F41: =IF(F11="","",F11*flour_fraction) | G41: =IF(G11="","",G11*flour_fraction) | H41: =IF(H11="","",H11*flour_fraction) | I41: =IF(I11="","",I11*flour_fraction) | J41: =IF(J11="","",J11*flour_fraction) -> 389.03625 | K41: =IF(K11="","",K11*flour_fraction) | ... M41: =IF(M11="","",M11*flour_fraction) | N41: =SUM(D41:M41) -> 389.03625
C42: Dried rescued bread pellets | D42: =IF(D12="","",D12*flour_fraction) | E42: =IF(E12="","",E12*flour_fraction) | F42: =IF(F12="","",F12*flour_fraction) | G42: =IF(G12="","",G12*flour_fraction) | H42: =IF(H12="","",H12*flour_fraction) | I42: =IF(I12="","",I12*flour_fraction) | J42: =IF(J12="","",J12*flour_fraction) -> 1025.641 | K42: =IF(K12="","",K12*flour_fraction) -> -1025.641 | ... M42: =IF(M12="","",M12*flour_fraction) | N42: =SUM(D42:M42) -> 0
C43: Rescued Flour | D43: =IF(D13="","",D13*flour_fraction) | E43: =IF(E13="","",E13*flour_fraction) | F43: =IF(F13="","",F13*flour_fraction) | G43: =IF(G13="","",G13*flour_fraction) | H43: =IF(H13="","",H13*flour_fraction) | I43: =IF(I13="","",I13*flour_fraction) | J43: =IF(J13="","",J13*flour_fraction) | K43: =IF(K13="","",K13) -> 1025.641 | L43: =IF(L13="","",L13) -> -1025.641 | M43: =IF(M13="","",M13) | N43: =SUM(D43:M43) -> 0
C44: Breadcrumbs | D44: =IF(D14="","",D14*flour_fraction) | E44: =IF(E14="","",E14*flour_fraction) | F44: =IF(F14="","",F14*flour_fraction) | G44: =IF(G14="","",G14*flour_fraction) | H44: =IF(H14="","",H14*flour_fraction) | I44: =IF(I14="","",I14*flour_fraction) | J44: =IF(J14="","",J14*flour_fraction) | K44: =IF(K14="","",K14) -> 180.99548 | L44: =IF(L14="","",L14) | M44: =IF(M14="","",M14) | N44: =SUM(D44:M44) -> 180.99548
C45: Paper sack | D45: =-L45 -> 7.5528205 | E45: =IF(E15="","",E15*flour_fraction) | F45: =IF(F15="","",F15*flour_fraction) | G45: =IF(G15="","",G15*flour_fraction) | H45: =IF(H15="","",H15*flour_fraction) | I45: =IF(I15="","",I15*flour_fraction) | J45: =IF(J15="","",J15*flour_fraction) | K45: =IF(K15="","",K15) | L45: =IF(L15="","",L15) -> -7.5528205 | M45: =IF(M15="","",M15) | N45: =SUM(D45:M45) -> 0
C46: Rescued Bread Flour, packaged | D46: =IF(D16="","",D16*flour_fraction) | E46: =IF(E16="","",E16*flour_fraction) | F46: =IF(F16="","",F16*flour_fraction) | G46: =IF(G16="","",G16*flour_fraction) | H46: =IF(H16="","",H16*flour_fraction) | I46: =IF(I16="","",I16*flour_fraction) | J46: =IF(J16="","",J16*flour_fraction) | K46: =IF(K16="","",K16) | L46: =IF(L16="","",L16) -> 1033.1938 | M46: =IF(M16="","",M16) -> -1033.1938 | N46: =SUM(D46:M46) -> 0
C47: Rescued Bread Flour, QC rejected | D47: =IF(D17="","",D17*flour_fraction) | E47: =IF(E17="","",E17*flour_fraction) | F47: =IF(F17="","",F17*flour_fraction) | G47: =IF(G17="","",G17*flour_fraction) | H47: =IF(H17="","",H17*flour_fraction) | I47: =IF(I17="","",I17*flour_fraction) | J47: =IF(J17="","",J17*flour_fraction) | K47: =IF(K17="","",K17) | L47: =IF(L17="","",L17) | M47: =IF(M17="","",M17) -> 25.829846 | N47: =SUM(D47:M47) -> 25.829846
C48: Rescued Bread Flour, packaged, saleable | D48: =IF(D18="","",D18*flour_fraction) | E48: =IF(E18="","",E18*flour_fraction) | F48: =IF(F18="","",F18*flour_fraction) | G48: =IF(G18="","",G18*flour_fraction) | H48: =IF(H18="","",H18*flour_fraction) | I48: =IF(I18="","",I18*flour_fraction) | J48: =IF(J18="","",J18*flour_fraction) | K48: =IF(K18="","",K18) | L48: =IF(L18="","",L18) | M48: =IF(M18="","",M18) -> 1007.364 | N48: =SUM(D48:M48) -> 1007.364
F51: =F37/F7 -> 0.85

Sheet conventional flour - mass balan
B2: Total Mass Flows (kg) - No allocation | D2: Note: Final reporting and reference flow is 1.000t, but all masses here are listed in kg.
E3: C01 | F3: C02 | G3: C03
B4: Mass | D4: Inputs | E4: Surplus Bread collection | F4: Freezing | G4: Surplus Bread Delivery | H4: Outputs
C5: Wheat Grain | D5: =-E5 -> 1282.0513 | E5: =-E6 -> -1282.0513 | H5: =SUM(D5:G5) -> 0
C6: Wheat Grain (imported) | E6: =-F6 -> 1282.0513 | F6: =-F8/constants!C37 -> -1282.0513 | H6: =SUM(D6:G6) -> 0
C7: Wheat Bran | F7: =-(F8+F6) -> 282.05128 | H7: =SUM(D7:G7) -> 282.05128
C8: Wheat Flour | F8: =-G8 -> 1000 | G8: =-G10/(1+constants!C22/1000) -> -1000 | H8: =SUM(D8:G8) -> 0
C9: Paper Sack | D9: =-G9 -> 7.364 | G9: =-F8*constants!C22/1000 -> -7.364 | H9: =SUM(D9:G9) -> 0
C10: Packaged Wheat Flour | G10: =constants!C3*constants!C22/1000 + constants!C3 -> 1007.364 | H10: =SUM(D10:G10) -> 1007.364
C12: Mass Balance Across Process | D12: =SUM(D5:D10) -> 1289.4153 | E12: =SUM(E5:E10) -> 0 | F12: =SUM(F5:F10) -> 0 | G12: =SUM(G5:G10) -> 0 | H12: =SUM(H5:H10) -> 1289.4153
B17: Total Mass Flows (kg) - With allocation | D17: Note: Final reporting and reference flow is 1.000t, but all masses here are listed in kg.
E18: C01 | F18: C02 | G18: C03
B19: Mass | D19: Inputs | E19: Surplus Bread collection | F19: Freezing | G19: Surplus Bread Delivery | H19: Outputs
C20: Wheat Grain | D20: =IF(D5="","",D5*constants!$C$37) -> 1000 | E20: =IF(E5="","",E5*constants!$C$37) -> -1000 | F20: =IF(F5="","",F5) | G20: =IF(G5="","",G5) | H20: =SUM(D20:G20) -> 0
C21: Wheat Grain (imported) | E21: =IF(E6="","",E6*constants!$C$37) -> 1000 | F21: =IF(F6="","",F6) -> -1282.0513 | G21: =IF(G6="","",G6) | H21: =SUM(D21:G21) -> -282.05128
C22: Wheat Bran | E22: =IF(E7="","",E7*constants!$C$37) | F22: =IF(F7="","",F7) -> 282.05128 | G22: =IF(G7="","",G7) | H22: =SUM(D22:G22) -> 282.05128
C23: Wheat Flour | E23: =IF(E8="","",E8*constants!$C$37) | F23: =IF(F8="","",F8) -> 1000 | G23: =IF(G8="","",G8) -> -1000 | H23: =SUM(D23:G23) -> 0
C24: Paper Sack | D24: =-G24 -> 7.364 | E24: =IF(E9="","",E9*constants!$C$37) | F24: =IF(F9="","",F9) | G24: =IF(G9="","",G9) -> -7.364 | H24: =SUM(D24:G24) -> 0
C25: Packaged Wheat Flour | E25: =IF(E10="","",E10*constants!$C$37) | F25: =IF(F10="","",F10) | G25: =IF(G10="","",G10) -> 1007.364 | H25: =SUM(D25:G25) -> 1007.364
F26: =IF(F11="","",F11)
C27: Mass Balance Across Process | D27: =SUM(D20:D25) -> 1007.364 | E27: =SUM(E20:E25) -> 0 | F27: =SUM(F20:F25) -> 0 | G27: =SUM(G20:G25) -> 0 | H27: =SUM(H20:H25) -> 1007.364
